Package: h5vcData Version: 2.15.0 Command: /home/biocbuild/bbs-3.15-data-experiment/R/bin/R CMD check --install=check:h5vcData.install-out.txt --library=/home/biocbuild/bbs-3.15-data-experiment/R/library --no-vignettes --timings h5vcData_2.15.0.tar.gz StartedAt: 2022-02-17 07:26:34 -0500 (Thu, 17 Feb 2022) EndedAt: 2022-02-17 07:26:51 -0500 (Thu, 17 Feb 2022) EllapsedTime: 17.0 seconds RetCode: 0 Status: OK CheckDir: h5vcData.Rcheck Warnings: 0