Package: furrowSeg Version: 1.23.0 Command: /home/biocbuild/bbs-3.15-data-experiment/R/bin/R CMD build --keep-empty-dirs --no-resave-data furrowSeg StartedAt: 2022-02-17 05:53:29 -0500 (Thu, 17 Feb 2022) EndedAt: 2022-02-17 05:59:56 -0500 (Thu, 17 Feb 2022) EllapsedTime: 387.4 seconds RetCode: 0 Status: OK PackageFile: furrowSeg_1.23.0.tar.gz PackageFileSize: 349.3 MiB