Package: biotmleData Version: 1.19.1 Command: /home/biocbuild/bbs-3.15-data-experiment/R/bin/R CMD check --install=check:biotmleData.install-out.txt --library=/home/biocbuild/bbs-3.15-data-experiment/R/library --no-vignettes --timings biotmleData_1.19.1.tar.gz StartedAt: 2022-02-17 07:04:44 -0500 (Thu, 17 Feb 2022) EndedAt: 2022-02-17 07:05:48 -0500 (Thu, 17 Feb 2022) EllapsedTime: 64.1 seconds RetCode: 0 Status: WARNINGS CheckDir: biotmleData.Rcheck Warnings: 1