Package: biotmleData Version: 1.19.1 Command: /home/biocbuild/bbs-3.15-data-experiment/R/bin/R CMD build --keep-empty-dirs --no-resave-data biotmleData StartedAt: 2022-02-17 05:35:00 -0500 (Thu, 17 Feb 2022) EndedAt: 2022-02-17 05:35:03 -0500 (Thu, 17 Feb 2022) EllapsedTime: 3.0 seconds RetCode: 0 Status: OK PackageFile: biotmleData_1.19.1.tar.gz PackageFileSize: 30.67 MiB