Package: biotmleData Version: 1.20.0 Command: /home/biocbuild/bbs-3.15-bioc/R/bin/R CMD check --install=check:biotmleData.install-out.txt --library=/home/biocbuild/bbs-3.15-bioc/R/library --no-vignettes --timings biotmleData_1.20.0.tar.gz StartedAt: 2022-10-18 11:10:59 -0400 (Tue, 18 Oct 2022) EndedAt: 2022-10-18 11:11:42 -0400 (Tue, 18 Oct 2022) EllapsedTime: 43.0 seconds RetCode: 0 Status: WARNINGS CheckDir: biotmleData.Rcheck Warnings: 1