Package: aracne.networks Version: 1.21.0 Command: /home/biocbuild/bbs-3.15-data-experiment/R/bin/R CMD check --install=check:aracne.networks.install-out.txt --library=/home/biocbuild/bbs-3.15-data-experiment/R/library --no-vignettes --timings aracne.networks_1.21.0.tar.gz StartedAt: 2022-02-17 07:04:05 -0500 (Thu, 17 Feb 2022) EndedAt: 2022-02-17 07:16:14 -0500 (Thu, 17 Feb 2022) EllapsedTime: 729.3 seconds RetCode: 0 Status: WARNINGS CheckDir: aracne.networks.Rcheck Warnings: 2