Package: RITANdata Version: 1.20.0 Command: /home/biocbuild/bbs-3.15-bioc/R/bin/R CMD check --install=check:RITANdata.install-out.txt --library=/home/biocbuild/bbs-3.15-bioc/R/library --no-vignettes --timings RITANdata_1.20.0.tar.gz StartedAt: 2022-10-18 11:39:35 -0400 (Tue, 18 Oct 2022) EndedAt: 2022-10-18 11:39:54 -0400 (Tue, 18 Oct 2022) EllapsedTime: 18.6 seconds RetCode: 0 Status: WARNINGS CheckDir: RITANdata.Rcheck Warnings: 1