Package: MOFAdata Version: 1.11.0 Command: /home/biocbuild/bbs-3.15-data-experiment/R/bin/R CMD check --install=check:MOFAdata.install-out.txt --library=/home/biocbuild/bbs-3.15-data-experiment/R/library --no-vignettes --timings MOFAdata_1.11.0.tar.gz StartedAt: 2022-02-17 07:39:22 -0500 (Thu, 17 Feb 2022) EndedAt: 2022-02-17 07:40:45 -0500 (Thu, 17 Feb 2022) EllapsedTime: 83.5 seconds RetCode: 0 Status: OK CheckDir: MOFAdata.Rcheck Warnings: 0