Package: MOFAdata Version: 1.12.0 Command: /home/biocbuild/bbs-3.15-bioc/R/bin/R CMD check --install=check:MOFAdata.install-out.txt --library=/home/biocbuild/bbs-3.15-bioc/R/library --no-vignettes --timings MOFAdata_1.12.0.tar.gz StartedAt: 2022-10-18 11:32:17 -0400 (Tue, 18 Oct 2022) EndedAt: 2022-10-18 11:33:12 -0400 (Tue, 18 Oct 2022) EllapsedTime: 55.3 seconds RetCode: 0 Status: OK CheckDir: MOFAdata.Rcheck Warnings: 0