Package: M3DExampleData Version: 1.22.0 Command: /home/biocbuild/bbs-3.15-bioc/R/bin/R CMD build --keep-empty-dirs --no-resave-data M3DExampleData StartedAt: 2022-10-18 10:29:46 -0400 (Tue, 18 Oct 2022) EndedAt: 2022-10-18 10:29:49 -0400 (Tue, 18 Oct 2022) EllapsedTime: 2.9 seconds RetCode: 0 Status: OK PackageFile: M3DExampleData_1.22.0.tar.gz PackageFileSize: 2.05 MiB