Package: KEGGdzPathwaysGEO Version: 1.33.0 Command: /home/biocbuild/bbs-3.15-data-experiment/R/bin/R CMD check --install=check:KEGGdzPathwaysGEO.install-out.txt --library=/home/biocbuild/bbs-3.15-data-experiment/R/library --no-vignettes --timings KEGGdzPathwaysGEO_1.33.0.tar.gz StartedAt: 2022-02-17 07:31:11 -0500 (Thu, 17 Feb 2022) EndedAt: 2022-02-17 07:38:11 -0500 (Thu, 17 Feb 2022) EllapsedTime: 419.8 seconds RetCode: 0 Status: OK CheckDir: KEGGdzPathwaysGEO.Rcheck Warnings: 0