git_url: https://git.bioconductor.org/packages/JASPAR2014 git_branch: RELEASE_3_15 git_last_commit: 3b5dd14 git_last_commit_date: 2022-04-26 13:11:58 -0400 (Tue, 26 Apr 2022) Package: JASPAR2014 Version: 1.32.0 Maintainer: Ge Tan MaintainerEmail: ge.tan09 at imperial.ac.uk