Package: scAnnotatR.models Version: 0.99.10 Command: /home/biocbuild/bbs-3.15-bioc/R/bin/R CMD build --keep-empty-dirs --no-resave-data scAnnotatR.models StartedAt: 2022-09-21 03:01:34 -0400 (Wed, 21 Sep 2022) EndedAt: 2022-09-21 03:01:58 -0400 (Wed, 21 Sep 2022) EllapsedTime: 23.3 seconds RetCode: 1 Status: ERROR PackageFile: None PackageFileSize: NA