| Back to Build/check report for BioC 3.15 annotations | 
  | 
This page was generated on 2022-09-21 06:00:06 -0400 (Wed, 21 Sep 2022).
| Hostname | OS | Arch (*) | R version | Installed pkgs | 
|---|---|---|---|---|
| nebbiolo1 | Linux (Ubuntu 20.04.4 LTS) | x86_64 | 4.2.1 (2022-06-23) -- "Funny-Looking Kid" | 4375 | 
| Click on any hostname to see more info about the system (e.g. compilers) (*) as reported by 'uname -p', except on Windows and Mac OS X | ||||
| 
To the developers/maintainers of the rGenomeTracksData package: Make sure to use the following settings in order to reproduce any error or warning you see on this page.  | 
| Package 31/35 | Hostname | OS / Arch | INSTALL | BUILD | CHECK | ||||||||
| rGenomeTracksData 0.99.0  (landing page) Omar Elashkar 
  | nebbiolo1 | Linux (Ubuntu 20.04.4 LTS) / x86_64 | OK | OK | OK | ||||||||