Package: phastCons30way.UCSC.hg38 Version: 3.13.0 Command: /home/biocbuild/bbs-3.15-bioc/R/bin/R CMD build --keep-empty-dirs --no-resave-data phastCons30way.UCSC.hg38 StartedAt: 2022-09-21 03:01:33 -0400 (Wed, 21 Sep 2022) EndedAt: 2022-09-21 03:01:48 -0400 (Wed, 21 Sep 2022) EllapsedTime: 15.5 seconds RetCode: 0 Status: OK PackageFile: phastCons30way.UCSC.hg38_3.13.0.tar.gz PackageFileSize: 284.5 KiB