Package: AHEnsDbs Version: 1.1.7 Command: /home/biocbuild/bbs-3.15-bioc/R/bin/R CMD INSTALL AHEnsDbs StartedAt: 2022-09-21 03:00:19 -0400 (Wed, 21 Sep 2022) EndedAt: 2022-09-21 03:00:40 -0400 (Wed, 21 Sep 2022) EllapsedTime: 21.0 seconds RetCode: 0 Status: OK