Package: AHEnsDbs Version: 1.1.7 Command: /home/biocbuild/bbs-3.15-bioc/R/bin/R CMD build --keep-empty-dirs --no-resave-data AHEnsDbs StartedAt: 2022-09-21 03:00:54 -0400 (Wed, 21 Sep 2022) EndedAt: 2022-09-21 03:01:32 -0400 (Wed, 21 Sep 2022) EllapsedTime: 38.1 seconds RetCode: 0 Status: OK PackageFile: AHEnsDbs_1.1.7.tar.gz PackageFileSize: 416.4 KiB