git_url: https://git.bioconductor.org/packages/AHEnsDbs git_branch: RELEASE_3_15 git_last_commit: fc9a08c git_last_commit_date: 2022-07-27 02:27:37 -0400 (Wed, 27 Jul 2022) Package: AHEnsDbs Version: 1.1.7 Maintainer: Johannes Rainer MaintainerEmail: johannes.rainer at eurac.edu