Package: AHCytoBands Version: 0.99.1 Command: /home/biocbuild/bbs-3.15-bioc/R/bin/R CMD build --keep-empty-dirs --no-resave-data AHCytoBands StartedAt: 2022-09-21 03:00:54 -0400 (Wed, 21 Sep 2022) EndedAt: 2022-09-21 03:00:55 -0400 (Wed, 21 Sep 2022) EllapsedTime: 1.0 seconds RetCode: 0 Status: OK PackageFile: AHCytoBands_0.99.1.tar.gz PackageFileSize: 2.036 KiB