Package: zellkonverter Version: 1.5.0 Command: chmod a+r zellkonverter -R && D:\biocbuild\bbs-3.15-bioc\R\bin\R.exe CMD build --keep-empty-dirs --no-resave-data zellkonverter StartedAt: 2022-03-17 18:17:55 -0400 (Thu, 17 Mar 2022) EndedAt: 2022-03-17 18:19:04 -0400 (Thu, 17 Mar 2022) EllapsedTime: 69.5 seconds RetCode: 0 Status: OK PackageFile: zellkonverter_1.5.0.tar.gz PackageFileSize: 1.076 MiB