Package: xmapbridge Version: 1.54.0 Command: /Library/Frameworks/R.framework/Resources/bin/R CMD INSTALL xmapbridge StartedAt: 2022-10-18 15:35:15 -0400 (Tue, 18 Oct 2022) EndedAt: 2022-10-18 15:35:28 -0400 (Tue, 18 Oct 2022) EllapsedTime: 12.6 seconds RetCode: 0 Status: OK