Package: widgetTools Version: 1.74.0 Command: /Library/Frameworks/R.framework/Resources/bin/R CMD build --keep-empty-dirs --no-resave-data widgetTools StartedAt: 2022-10-18 22:36:07 -0400 (Tue, 18 Oct 2022) EndedAt: 2022-10-18 22:36:22 -0400 (Tue, 18 Oct 2022) EllapsedTime: 14.3 seconds RetCode: 0 Status: OK PackageFile: widgetTools_1.74.0.tar.gz PackageFileSize: 222.8 KiB