Package: vulcan Version: 1.17.0 Command: rm -rf vulcan.buildbin-libdir && mkdir vulcan.buildbin-libdir && D:\biocbuild\bbs-3.15-bioc\R\bin\R.exe CMD INSTALL --build --library=vulcan.buildbin-libdir vulcan_1.17.0.tar.gz StartedAt: 2022-03-17 21:47:19 -0400 (Thu, 17 Mar 2022) EndedAt: 2022-03-17 21:48:42 -0400 (Thu, 17 Mar 2022) EllapsedTime: 82.6 seconds RetCode: 0 Status: OK PackageFile: vulcan_1.17.0.zip PackageFileSize: 410.2 KiB