Package: updateObject Version: 0.99.11 Command: rm -rf updateObject.buildbin-libdir && mkdir updateObject.buildbin-libdir && D:\biocbuild\bbs-3.15-bioc\R\bin\R.exe CMD INSTALL --build --library=updateObject.buildbin-libdir updateObject_0.99.11.tar.gz StartedAt: 2022-03-17 21:46:45 -0400 (Thu, 17 Mar 2022) EndedAt: 2022-03-17 21:48:04 -0400 (Thu, 17 Mar 2022) EllapsedTime: 79.1 seconds RetCode: 0 Status: OK PackageFile: updateObject_0.99.11.zip PackageFileSize: 1.362 MiB