Package: tximeta Version: 1.13.7 Command: rm -rf tximeta.buildbin-libdir && mkdir tximeta.buildbin-libdir && D:\biocbuild\bbs-3.15-bioc\R\bin\R.exe CMD INSTALL --build --library=tximeta.buildbin-libdir tximeta_1.13.7.tar.gz StartedAt: 2022-03-17 21:46:32 -0400 (Thu, 17 Mar 2022) EndedAt: 2022-03-17 21:47:43 -0400 (Thu, 17 Mar 2022) EllapsedTime: 71.5 seconds RetCode: 0 Status: OK PackageFile: tximeta_1.13.7.zip PackageFileSize: 754 KiB