Package: tximeta Version: 1.14.1 Command: /Library/Frameworks/R.framework/Resources/bin/R CMD check --install=check:tximeta.install-out.txt --library=/Library/Frameworks/R.framework/Resources/library --no-vignettes --timings tximeta_1.14.1.tar.gz StartedAt: 2022-10-19 09:16:20 -0400 (Wed, 19 Oct 2022) EndedAt: 2022-10-19 09:25:43 -0400 (Wed, 19 Oct 2022) EllapsedTime: 562.8 seconds RetCode: 0 Status: OK CheckDir: tximeta.Rcheck Warnings: 0