Package: tspair Version: 1.53.0 Command: /home/biocbuild/bbs-3.15-bioc/R/bin/R CMD check --install=check:tspair.install-out.txt --library=/home/biocbuild/bbs-3.15-bioc/R/library --no-vignettes --timings tspair_1.53.0.tar.gz StartedAt: 2022-03-17 21:44:29 -0400 (Thu, 17 Mar 2022) EndedAt: 2022-03-17 21:45:04 -0400 (Thu, 17 Mar 2022) EllapsedTime: 34.8 seconds RetCode: 0 Status: OK CheckDir: tspair.Rcheck Warnings: 0