Package: tomoda Version: 1.5.2 Command: D:\biocbuild\bbs-3.15-bioc\R\bin\R.exe CMD INSTALL tomoda StartedAt: 2022-03-17 15:40:44 -0400 (Thu, 17 Mar 2022) EndedAt: 2022-03-17 15:42:17 -0400 (Thu, 17 Mar 2022) EllapsedTime: 93.3 seconds RetCode: 0 Status: OK