Package: tomoda Version: 1.6.0 Command: rm -rf tomoda.buildbin-libdir && mkdir tomoda.buildbin-libdir && F:\biocbuild\bbs-3.15-bioc\R\bin\R.exe CMD INSTALL --build --library=tomoda.buildbin-libdir tomoda_1.6.0.tar.gz StartedAt: 2022-10-19 06:41:53 -0400 (Wed, 19 Oct 2022) EndedAt: 2022-10-19 06:42:44 -0400 (Wed, 19 Oct 2022) EllapsedTime: 50.6 seconds RetCode: 0 Status: OK PackageFile: tomoda_1.6.0.zip PackageFileSize: 2.021 MiB