Package: tomoda Version: 1.6.0 Command: /Library/Frameworks/R.framework/Resources/bin/R CMD check --install=check:tomoda.install-out.txt --library=/Library/Frameworks/R.framework/Resources/library --no-vignettes --timings tomoda_1.6.0.tar.gz StartedAt: 2022-10-19 08:59:31 -0400 (Wed, 19 Oct 2022) EndedAt: 2022-10-19 09:11:20 -0400 (Wed, 19 Oct 2022) EllapsedTime: 708.9 seconds RetCode: 0 Status: OK CheckDir: tomoda.Rcheck Warnings: 0