Package: tomoda Version: 1.6.0 Command: /Library/Frameworks/R.framework/Resources/bin/R CMD build --keep-empty-dirs --no-resave-data tomoda StartedAt: 2022-10-18 22:19:05 -0400 (Tue, 18 Oct 2022) EndedAt: 2022-10-18 22:21:23 -0400 (Tue, 18 Oct 2022) EllapsedTime: 137.5 seconds RetCode: 0 Status: OK PackageFile: tomoda_1.6.0.tar.gz PackageFileSize: 2.555 MiB