Package: tomoda Version: 1.6.0 Command: rm -rf tomoda.buildbin-libdir && mkdir tomoda.buildbin-libdir && /Users/biocbuild/BBS/utils/build-universal.sh tomoda_1.6.0.tar.gz /Library/Frameworks/R.framework/Resources/bin/R tomoda.buildbin-libdir StartedAt: 2022-10-19 11:19:36 -0400 (Wed, 19 Oct 2022) EndedAt: 2022-10-19 11:20:22 -0400 (Wed, 19 Oct 2022) EllapsedTime: 46.2 seconds RetCode: 0 Status: OK PackageFile: tomoda_1.6.0.tgz PackageFileSize: 2.616 MiB