Package: swfdr Version: 1.22.0 Command: rm -rf swfdr.buildbin-libdir && mkdir swfdr.buildbin-libdir && F:\biocbuild\bbs-3.15-bioc\R\bin\R.exe CMD INSTALL --build --library=swfdr.buildbin-libdir swfdr_1.22.0.tar.gz StartedAt: 2022-10-19 06:39:46 -0400 (Wed, 19 Oct 2022) EndedAt: 2022-10-19 06:39:55 -0400 (Wed, 19 Oct 2022) EllapsedTime: 9.4 seconds RetCode: 0 Status: OK PackageFile: swfdr_1.22.0.zip PackageFileSize: 1.447 MiB