Package: spkTools Version: 1.52.0 Command: rm -rf spkTools.buildbin-libdir && mkdir spkTools.buildbin-libdir && /Users/biocbuild/BBS/utils/build-universal.sh spkTools_1.52.0.tar.gz /Library/Frameworks/R.framework/Resources/bin/R spkTools.buildbin-libdir StartedAt: 2022-10-19 11:15:20 -0400 (Wed, 19 Oct 2022) EndedAt: 2022-10-19 11:15:30 -0400 (Wed, 19 Oct 2022) EllapsedTime: 10.2 seconds RetCode: 0 Status: OK PackageFile: spkTools_1.52.0.tgz PackageFileSize: 813.9 KiB