Package: seqcombo Version: 1.17.1 Command: chmod a+r seqcombo -R && D:\biocbuild\bbs-3.15-bioc\R\bin\R.exe CMD build --keep-empty-dirs --no-resave-data seqcombo StartedAt: 2022-03-17 18:02:21 -0400 (Thu, 17 Mar 2022) EndedAt: 2022-03-17 18:02:40 -0400 (Thu, 17 Mar 2022) EllapsedTime: 19.4 seconds RetCode: 0 Status: OK PackageFile: seqcombo_1.17.1.tar.gz PackageFileSize: 690.3 KiB