Package: seqcombo Version: 1.17.1 Command: rm -rf seqcombo.buildbin-libdir && mkdir seqcombo.buildbin-libdir && D:\biocbuild\bbs-3.15-bioc\R\bin\R.exe CMD INSTALL --build --library=seqcombo.buildbin-libdir seqcombo_1.17.1.tar.gz StartedAt: 2022-03-17 21:39:01 -0400 (Thu, 17 Mar 2022) EndedAt: 2022-03-17 21:41:01 -0400 (Thu, 17 Mar 2022) EllapsedTime: 120.5 seconds RetCode: 0 Status: OK PackageFile: seqcombo_1.17.1.zip PackageFileSize: 351.6 KiB