Package: seqTools Version: 1.30.0 Command: F:\biocbuild\bbs-3.15-bioc\R\bin\R.exe CMD INSTALL seqTools StartedAt: 2022-10-18 15:43:02 -0400 (Tue, 18 Oct 2022) EndedAt: 2022-10-18 15:43:46 -0400 (Tue, 18 Oct 2022) EllapsedTime: 43.1 seconds RetCode: 0 Status: OK