Package: seqCNA Version: 1.41.0 Command: rm -rf seqCNA.buildbin-libdir && mkdir seqCNA.buildbin-libdir && D:\biocbuild\bbs-3.15-bioc\R\bin\R.exe CMD INSTALL --build --library=seqCNA.buildbin-libdir seqCNA_1.41.0.tar.gz StartedAt: 2022-03-17 21:39:00 -0400 (Thu, 17 Mar 2022) EndedAt: 2022-03-17 21:41:00 -0400 (Thu, 17 Mar 2022) EllapsedTime: 120.2 seconds RetCode: 0 Status: OK PackageFile: seqCNA_1.41.0.zip PackageFileSize: 1.58 MiB