Package: seqCNA Version: 1.42.0 Command: /Library/Frameworks/R.framework/Resources/bin/R CMD build --keep-empty-dirs --no-resave-data seqCNA StartedAt: 2022-10-18 21:44:46 -0400 (Tue, 18 Oct 2022) EndedAt: 2022-10-18 21:45:25 -0400 (Tue, 18 Oct 2022) EllapsedTime: 39.1 seconds RetCode: 0 Status: OK PackageFile: seqCNA_1.42.0.tar.gz PackageFileSize: 1.247 MiB