Package: seqCNA Version: 1.42.0 Command: rm -rf seqCNA.buildbin-libdir && mkdir seqCNA.buildbin-libdir && /Users/biocbuild/BBS/utils/build-universal.sh seqCNA_1.42.0.tar.gz /Library/Frameworks/R.framework/Resources/bin/R seqCNA.buildbin-libdir StartedAt: 2022-10-19 11:10:53 -0400 (Wed, 19 Oct 2022) EndedAt: 2022-10-19 11:11:08 -0400 (Wed, 19 Oct 2022) EllapsedTime: 15.3 seconds RetCode: 0 Status: OK PackageFile: seqCNA_1.42.0.tgz PackageFileSize: 1.359 MiB