Package: semisup Version: 1.20.0 Command: /Library/Frameworks/R.framework/Resources/bin/R CMD check --install=check:semisup.install-out.txt --library=/Library/Frameworks/R.framework/Resources/library --no-vignettes --timings semisup_1.20.0.tar.gz StartedAt: 2022-10-19 07:53:35 -0400 (Wed, 19 Oct 2022) EndedAt: 2022-10-19 07:54:29 -0400 (Wed, 19 Oct 2022) EllapsedTime: 53.9 seconds RetCode: 0 Status: OK CheckDir: semisup.Rcheck Warnings: 0