git_url: https://git.bioconductor.org/packages/selectKSigs git_branch: RELEASE_3_15 git_last_commit: 3e24671 git_last_commit_date: 2022-04-26 12:01:28 -0400 (Tue, 26 Apr 2022) Package: selectKSigs Version: 1.8.0 Maintainer: Zhi Yang MaintainerEmail: zyang895 at gmail.com