Package: sccomp Version: 0.99.20 Command: D:\biocbuild\bbs-3.15-bioc\R\bin\R.exe CMD check --no-multiarch --install=check:sccomp.install-out.txt --library=D:\biocbuild\bbs-3.15-bioc\R\library --no-vignettes --timings sccomp_0.99.20.tar.gz StartedAt: 2022-03-17 20:11:46 -0400 (Thu, 17 Mar 2022) EndedAt: 2022-03-17 20:17:23 -0400 (Thu, 17 Mar 2022) EllapsedTime: 337.5 seconds RetCode: 0 Status: OK CheckDir: sccomp.Rcheck Warnings: 0