Package: sccomp Version: 1.0.0 Command: /home/biocbuild/bbs-3.15-bioc/R/bin/R CMD build --keep-empty-dirs --no-resave-data sccomp StartedAt: 2022-10-18 17:57:44 -0400 (Tue, 18 Oct 2022) EndedAt: 2022-10-18 18:08:52 -0400 (Tue, 18 Oct 2022) EllapsedTime: 667.3 seconds RetCode: 0 Status: OK PackageFile: sccomp_1.0.0.tar.gz PackageFileSize: 1.967 MiB