Package: sangerseqR Version: 1.31.2 Command: D:\biocbuild\bbs-3.15-bioc\R\bin\R.exe CMD INSTALL sangerseqR StartedAt: 2022-03-17 15:38:26 -0400 (Thu, 17 Mar 2022) EndedAt: 2022-03-17 15:40:07 -0400 (Thu, 17 Mar 2022) EllapsedTime: 100.8 seconds RetCode: 0 Status: OK