Package: sangerseqR Version: 1.31.2 Command: chmod a+r sangerseqR -R && D:\biocbuild\bbs-3.15-bioc\R\bin\R.exe CMD build --keep-empty-dirs --no-resave-data sangerseqR StartedAt: 2022-03-17 17:57:34 -0400 (Thu, 17 Mar 2022) EndedAt: 2022-03-17 17:59:24 -0400 (Thu, 17 Mar 2022) EllapsedTime: 109.9 seconds RetCode: 0 Status: OK PackageFile: sangerseqR_1.31.2.tar.gz PackageFileSize: 1.563 MiB