Package: sangerseqR Version: 1.32.0 Command: /home/biocbuild/bbs-3.15-bioc/R/bin/R CMD check --install=check:sangerseqR.install-out.txt --library=/home/biocbuild/bbs-3.15-bioc/R/library --no-vignettes --timings sangerseqR_1.32.0.tar.gz StartedAt: 2022-10-18 21:38:49 -0400 (Tue, 18 Oct 2022) EndedAt: 2022-10-18 21:40:37 -0400 (Tue, 18 Oct 2022) EllapsedTime: 107.7 seconds RetCode: 0 Status: OK CheckDir: sangerseqR.Rcheck Warnings: 0