Package: sangerseqR Version: 1.32.0 Command: /Library/Frameworks/R.framework/Resources/bin/R CMD INSTALL sangerseqR StartedAt: 2022-10-18 15:26:06 -0400 (Tue, 18 Oct 2022) EndedAt: 2022-10-18 15:26:34 -0400 (Tue, 18 Oct 2022) EllapsedTime: 28.7 seconds RetCode: 0 Status: OK