Package: sangerseqR Version: 1.32.0 Command: /Library/Frameworks/R.framework/Resources/bin/R CMD check --install=check:sangerseqR.install-out.txt --library=/Library/Frameworks/R.framework/Resources/library --no-vignettes --timings sangerseqR_1.32.0.tar.gz StartedAt: 2022-10-19 07:30:22 -0400 (Wed, 19 Oct 2022) EndedAt: 2022-10-19 07:34:05 -0400 (Wed, 19 Oct 2022) EllapsedTime: 222.7 seconds RetCode: 0 Status: OK CheckDir: sangerseqR.Rcheck Warnings: 0