Package: sangerseqR Version: 1.32.0 Command: /Library/Frameworks/R.framework/Resources/bin/R CMD build --keep-empty-dirs --no-resave-data sangerseqR StartedAt: 2022-10-18 21:25:48 -0400 (Tue, 18 Oct 2022) EndedAt: 2022-10-18 21:26:47 -0400 (Tue, 18 Oct 2022) EllapsedTime: 59.1 seconds RetCode: 0 Status: OK PackageFile: sangerseqR_1.32.0.tar.gz PackageFileSize: 1.563 MiB